BEGIN:VCALENDAR
VERSION:2.0
PRODID:-//Plone.org//NONSGML plone.app.event//EN
X-WR-TIMEZONE:Europe/Madrid
BEGIN:VEVENT
SUMMARY:Vermut Musical
DTSTART;TZID=Europe/Madrid;VALUE=DATE-TIME:20230305T120000
DTEND;TZID=Europe/Madrid;VALUE=DATE-TIME:20230305T130000
DTSTAMP;VALUE=DATE-TIME:20260424T145444Z
UID:c65d65c5db9f94ae47b5450d767eadf1
CREATED;VALUE=DATE-TIME:20230305T000000Z
CATEGORIES:Música
LOCATION:Casal de Joventut Seràfica - Josep Baralt, s/n
ORGANIZER:Seràfics
COMMENT:Preu: Activitat gratuïta
Durada: 1h 30min
DESCRIPTION:Vermut musical amb Ses Clavelles
URL:https://arenysdemar.cat/document.php?id=43595
END:VEVENT
END:VCALENDAR