BEGIN:VCALENDAR
VERSION:2.0
PRODID:-//Plone.org//NONSGML plone.app.event//EN
X-WR-TIMEZONE:Europe/Madrid
BEGIN:VEVENT
SUMMARY:Taller per a infants
DTSTART;TZID=Europe/Madrid;VALUE=DATE-TIME:20230304T100000
DTEND;TZID=Europe/Madrid;VALUE=DATE-TIME:20230304T110000
DTSTAMP;VALUE=DATE-TIME:20260424T070156Z
UID:390cbef8dbf100e9e29e448f09846ab7
CREATED;VALUE=DATE-TIME:20230304T000000Z
CATEGORIES:Infantils,Tallers
LOCATION:Casal de Joventut Seràfica - Josep Baralt, s/n
ORGANIZER:Seràfics
COMMENT:Preu: Activitat gratuïta
Durada: 1h 30min. També el dia 5 de març
DESCRIPTION:Creació d'un mural per exposar el dia 8 de març
URL:https://arenysdemar.cat/document.php?id=43599
END:VEVENT
END:VCALENDAR