BEGIN:VCALENDAR
VERSION:2.0
PRODID:-//Plone.org//NONSGML plone.app.event//EN
X-WR-TIMEZONE:Europe/Madrid
BEGIN:VEVENT
SUMMARY:Ofici de Divendres Sant
DTSTART;TZID=Europe/Madrid;VALUE=DATE-TIME:20230407T184500
DTEND;TZID=Europe/Madrid;VALUE=DATE-TIME:20230407T194500
DTSTAMP;VALUE=DATE-TIME:20260424T215305Z
UID:e5a4d6f36e66f193374b9c89d19610a9
CREATED;VALUE=DATE-TIME:20230407T000000Z
CATEGORIES:Festa
LOCATION:Església de Santa Maria - Plaça de l'Església
ORGANIZER:Parròquia de Santa Maria
DESCRIPTION:Commemoració de la passió i mort de Jesús
URL:https://arenysdemar.cat/document.php?id=43636
END:VEVENT
END:VCALENDAR