BEGIN:VCALENDAR
VERSION:2.0
PRODID:-//Plone.org//NONSGML plone.app.event//EN
X-WR-TIMEZONE:Europe/Madrid
BEGIN:VEVENT
SUMMARY:Conferència musicalitzada amb Rafael Esteve. Simfonia núm. 5 de Gustav Mahler
DTSTART;TZID=Europe/Madrid;VALUE=DATE-TIME:20230519T183000
DTEND;TZID=Europe/Madrid;VALUE=DATE-TIME:20230519T193000
DTSTAMP;VALUE=DATE-TIME:20260424T164330Z
UID:b59558f622dd5f24c5c2041c0e3c50a9
CREATED;VALUE=DATE-TIME:20230519T000000Z
CATEGORIES:Música,Conferència
LOCATION:Ateneu Arenyenc - Anselm Clavé, 22
ORGANIZER:Secció de Cultura de l'Ateneu Arenyenc
COMMENT:Preu: General 8 &euro; | Socis Ent. Cult. 5 &euro; | Socis Ateneu gratuït
URL:https://arenysdemar.cat/document.php?id=43648
END:VEVENT
END:VCALENDAR