BEGIN:VCALENDAR
VERSION:2.0
PRODID:-//Plone.org//NONSGML plone.app.event//EN
X-WR-TIMEZONE:Europe/Madrid
BEGIN:VEVENT
SUMMARY:12a Calçotada popular per la Independència
DTSTART;TZID=Europe/Madrid;VALUE=DATE-TIME:20230311T120000
DTEND;TZID=Europe/Madrid;VALUE=DATE-TIME:20230311T130000
DTSTAMP;VALUE=DATE-TIME:20260424T100409Z
UID:b4222c004bc9c8bf1e72233fa652ce2c
CREATED;VALUE=DATE-TIME:20230311T000000Z
CATEGORIES:Música
LOCATION:Plaça de l'Església - Plaça de l'Església
ORGANIZER:CUP Arenys de Mar amb col·laboració de La Tempesta
COMMENT:Preu: 12&euro; adults 8&euro; quitxalla
Durada: 11h Venda de tiquets (en efectiu només) - 12h Vermut musical 14h Dinar
URL:https://arenysdemar.cat/document.php?id=43653
END:VEVENT
END:VCALENDAR