BEGIN:VCALENDAR
VERSION:2.0
PRODID:-//Plone.org//NONSGML plone.app.event//EN
X-WR-TIMEZONE:Europe/Madrid
BEGIN:VEVENT
SUMMARY:Koko-Jean & The Tonics
DTSTART;TZID=Europe/Madrid;VALUE=DATE-TIME:20230804T220000
DTEND;TZID=Europe/Madrid;VALUE=DATE-TIME:20230804T230000
DTSTAMP;VALUE=DATE-TIME:20260421T232934Z
UID:23db3c79b84cd5cdf6bd180e8dcf0439
CREATED;VALUE=DATE-TIME:20230804T000000Z
CATEGORIES:Música
LOCATION:Pati del Xifré - Auterive, s/n
ORGANIZER:Regidoria de Cultura
COMMENT:Preu: Anticipada 12&#128; i a taquilla 15&#128;
DESCRIPTION:31è Festival de Jazz d'Arenys de Mar
URL:https://arenysdemar.cat/document.php?id=43694
END:VEVENT
END:VCALENDAR