BEGIN:VCALENDAR
VERSION:2.0
PRODID:-//Plone.org//NONSGML plone.app.event//EN
X-WR-TIMEZONE:Europe/Madrid
BEGIN:VEVENT
SUMMARY:Conferència de Música: Manon de Massenet, l'òpera francesa més estimada
DTSTART;TZID=Europe/Madrid;VALUE=DATE-TIME:20230411T180000
DTEND;TZID=Europe/Madrid;VALUE=DATE-TIME:20230411T190000
DTSTAMP;VALUE=DATE-TIME:20260423T182613Z
UID:20779b73b2f3b9a1058fe67281ab7c27
CREATED;VALUE=DATE-TIME:20230411T000000Z
CATEGORIES:Conferència
LOCATION:Sala Josep Maria Arnau del C.C.Calisay - Riera del Pare Fita, 31
ORGANIZER:Aula d'Extensió Universitària d'Arenys de Mar
DESCRIPTION:a càrrec de Pol Avinyó Rosselló, musicòleg i divulgador musical del Liceu
URL:https://arenysdemar.cat/document.php?id=43754
END:VEVENT
END:VCALENDAR