BEGIN:VCALENDAR
VERSION:2.0
PRODID:-//Plone.org//NONSGML plone.app.event//EN
X-WR-TIMEZONE:Europe/Madrid
BEGIN:VEVENT
SUMMARY:Festa al carrer de la Torre
DTSTART;TZID=Europe/Madrid;VALUE=DATE-TIME:20230721T000000
DTEND;TZID=Europe/Madrid;VALUE=DATE-TIME:20230721T010000
DTSTAMP;VALUE=DATE-TIME:20260424T133347Z
UID:ab6230d93eb81d13e62b93cffa9fe6df
CREATED;VALUE=DATE-TIME:20230721T000000Z
CATEGORIES:Festa
LOCATION:al carrer de la Torre
ORGANIZER:Comissió de festes al carrer de la Torre
COMMENT:Durada: Fins al diumenge 23 de juliol
URL:https://arenysdemar.cat/document.php?id=43767
END:VEVENT
END:VCALENDAR