BEGIN:VCALENDAR
VERSION:2.0
PRODID:-//Plone.org//NONSGML plone.app.event//EN
X-WR-TIMEZONE:Europe/Madrid
BEGIN:VEVENT
SUMMARY:Excursió amb festa a Santa Cristina d'Aro
DTSTART;TZID=Europe/Madrid;VALUE=DATE-TIME:20230517T083000
DTEND;TZID=Europe/Madrid;VALUE=DATE-TIME:20230517T093000
DTSTAMP;VALUE=DATE-TIME:20260421T202109Z
UID:f6f245102d1bbaa82c004eeb49311a4b
CREATED;VALUE=DATE-TIME:20230517T000000Z
CATEGORIES:Festa
LOCATION:Riera, davant del C.C. Calisay
ORGANIZER:Vocalia de Jubilats
COMMENT:Preu: 60&euro; els socis i 70&euro; els no socis
Durada: Tot el dia
DESCRIPTION:Visita Museu de la Casa Màgica i altres
URL:https://arenysdemar.cat/document.php?id=43799
END:VEVENT
END:VCALENDAR