BEGIN:VCALENDAR
VERSION:2.0
PRODID:-//Plone.org//NONSGML plone.app.event//EN
X-WR-TIMEZONE:Europe/Madrid
BEGIN:VEVENT
SUMMARY:XLI Fira del Solstici d'Estiu
DTSTART;TZID=Europe/Madrid;VALUE=DATE-TIME:20230623T170000
DTEND;TZID=Europe/Madrid;VALUE=DATE-TIME:20230623T180000
DTSTAMP;VALUE=DATE-TIME:20260421T105849Z
UID:e2e144933386375ce2c9c05520483c74
CREATED;VALUE=DATE-TIME:20230623T000000Z
CATEGORIES:Festa
LOCATION:Plaça de l'Església - Plaça de l'Església
ORGANIZER:Fira del Solstici
COMMENT:Durada: També els dies 24 i 25 de juny 2023
URL:https://arenysdemar.cat/document.php?id=43802
END:VEVENT
END:VCALENDAR