BEGIN:VCALENDAR
VERSION:2.0
PRODID:-//Plone.org//NONSGML plone.app.event//EN
X-WR-TIMEZONE:Europe/Madrid
BEGIN:VEVENT
SUMMARY:Vina de ruta pel rial Bareu Tronqueda
DTSTART;TZID=Europe/Madrid;VALUE=DATE-TIME:20230521T093000
DTEND;TZID=Europe/Madrid;VALUE=DATE-TIME:20230521T103000
DTSTAMP;VALUE=DATE-TIME:20260420T164613Z
UID:a43a713ff5d515af04424e52eb730753
CREATED;VALUE=DATE-TIME:20230521T000000Z
CATEGORIES:Medi ambient
LOCATION:Escola Els Colors
ORGANIZER:Plataforma en defensa del territori arenyenc
COMMENT:Durada: 2 hores
URL:https://arenysdemar.cat/document.php?id=43859
END:VEVENT
END:VCALENDAR