BEGIN:VCALENDAR
VERSION:2.0
PRODID:-//Plone.org//NONSGML plone.app.event//EN
X-WR-TIMEZONE:Europe/Madrid
BEGIN:VEVENT
SUMMARY:Presentació del llibre: Lápida en flor d'Àngels Diemand-Hartz
DTSTART;TZID=Europe/Madrid;VALUE=DATE-TIME:20230602T190000
DTEND;TZID=Europe/Madrid;VALUE=DATE-TIME:20230602T200000
DTSTAMP;VALUE=DATE-TIME:20260423T211111Z
UID:01a446fab6015a54b5dc7327a4ea4eb6
CREATED;VALUE=DATE-TIME:20230602T000000Z
CATEGORIES:Literatura
LOCATION:Sala d'Actes de la Biblioteca - C. Bonaire, 3
ORGANIZER:Biblioteca - Regidoria de Cultura
DESCRIPTION:Presentació a càrrec de Teresa Martin, escriptora i poeta
URL:https://arenysdemar.cat/document.php?id=43860
END:VEVENT
END:VCALENDAR