BEGIN:VCALENDAR
VERSION:2.0
PRODID:-//Plone.org//NONSGML plone.app.event//EN
X-WR-TIMEZONE:Europe/Madrid
BEGIN:VEVENT
SUMMARY:Festa al carrer de la Font
DTSTART;TZID=Europe/Madrid;VALUE=DATE-TIME:20230728T000000
DTEND;TZID=Europe/Madrid;VALUE=DATE-TIME:20230728T010000
DTSTAMP;VALUE=DATE-TIME:20260424T060826Z
UID:a24a7fd9fddec58813388494e30d5c8c
CREATED;VALUE=DATE-TIME:20230728T000000Z
CATEGORIES:Festa
LOCATION:al carrer de la Font
ORGANIZER:Comissió de festes del carrer de la Font
COMMENT:Durada: També el dia 29 de juliol
URL:https://arenysdemar.cat/document.php?id=43887
END:VEVENT
END:VCALENDAR