BEGIN:VCALENDAR
VERSION:2.0
PRODID:-//Plone.org//NONSGML plone.app.event//EN
X-WR-TIMEZONE:Europe/Madrid
BEGIN:VEVENT
SUMMARY:Xerrada: Dia Mundial del Lupus
DTSTART;TZID=Europe/Madrid;VALUE=DATE-TIME:20230512T190000
DTEND;TZID=Europe/Madrid;VALUE=DATE-TIME:20230512T200000
DTSTAMP;VALUE=DATE-TIME:20260421T174450Z
UID:6d022fdf6733afd2d94d57521a84c790
CREATED;VALUE=DATE-TIME:20230512T000000Z
CATEGORIES:Conferència
LOCATION:Sala d'Actes de la Biblioteca - C. Bonaire, 3
ORGANIZER:Biblioteca - Regidoria de Cultura
DESCRIPTION:amb el Dr. Gerard Espinosa de l'Hospital Clínic, i Pilar Lucas  i Aurea Jiménez de l'ACLEG
URL:https://arenysdemar.cat/document.php?id=43894
END:VEVENT
END:VCALENDAR