BEGIN:VCALENDAR
VERSION:2.0
PRODID:-//Plone.org//NONSGML plone.app.event//EN
X-WR-TIMEZONE:Europe/Madrid
BEGIN:VEVENT
SUMMARY:Programa Mes de la Salut de les Dones
DTSTART;TZID=Europe/Madrid;VALUE=DATE-TIME:20230516T190000
DTEND;TZID=Europe/Madrid;VALUE=DATE-TIME:20230516T200000
DTSTAMP;VALUE=DATE-TIME:20260421T184340Z
UID:1fbcb53caf3e605ea043478b5ffbe516
CREATED;VALUE=DATE-TIME:20230516T000000Z
CATEGORIES:Tallers
LOCATION:Sala Gran d'entitats del C.C. Calisay - Riera Pare Fita, 31
ORGANIZER:Regidoria de Drets Civils
COMMENT:Preu: Gratuït. Inscripcions en aquest formulari
DESCRIPTION:Taller: Com comunicar-nos sexualment d'igual a igual
URL:https://arenysdemar.cat/document.php?id=43923
END:VEVENT
END:VCALENDAR