BEGIN:VCALENDAR
VERSION:2.0
PRODID:-//Plone.org//NONSGML plone.app.event//EN
X-WR-TIMEZONE:Europe/Madrid
BEGIN:VEVENT
SUMMARY:Ofici solemne en honor a Sant Zenon
DTSTART;TZID=Europe/Madrid;VALUE=DATE-TIME:20230709T200000
DTEND;TZID=Europe/Madrid;VALUE=DATE-TIME:20230709T210000
DTSTAMP;VALUE=DATE-TIME:20260421T095922Z
UID:4c795a8cfd5e0a3fd67d19ff9d5979e7
CREATED;VALUE=DATE-TIME:20230709T000000Z
CATEGORIES:Festa
LOCATION:Església de Santa Maria - Plaça de l'Església
ORGANIZER:Parròquia de Santa Maria
URL:https://arenysdemar.cat/document.php?id=43936
END:VEVENT
END:VCALENDAR