BEGIN:VCALENDAR
VERSION:2.0
PRODID:-//Plone.org//NONSGML plone.app.event//EN
X-WR-TIMEZONE:Europe/Madrid
BEGIN:VEVENT
SUMMARY:Atletisme a la Platja
DTSTART;TZID=Europe/Madrid;VALUE=DATE-TIME:20230610T103000
DTEND;TZID=Europe/Madrid;VALUE=DATE-TIME:20230610T113000
DTSTAMP;VALUE=DATE-TIME:20260421T190728Z
UID:82d1d6c64997f61db1b80ea47724345b
CREATED;VALUE=DATE-TIME:20230610T000000Z
CATEGORIES:Esports
LOCATION:Platja Picòrdia
ORGANIZER:Penya Apa Anem-hi
COMMENT:Durada: Fins a les 13.30h
URL:https://arenysdemar.cat/document.php?id=43956
END:VEVENT
END:VCALENDAR