BEGIN:VCALENDAR
VERSION:2.0
PRODID:-//Plone.org//NONSGML plone.app.event//EN
X-WR-TIMEZONE:Europe/Madrid
BEGIN:VEVENT
SUMMARY:CICLE DE CONFERÈNCIES SOBRE LA NÀUTICA MEDIEVAL CATALANA
DTSTART;TZID=Europe/Madrid;VALUE=DATE-TIME:20230520T190000
DTEND;TZID=Europe/Madrid;VALUE=DATE-TIME:20230520T200000
DTSTAMP;VALUE=DATE-TIME:20260420T203118Z
UID:4fff74edf31cd1fd05788dab85b90aab
CREATED;VALUE=DATE-TIME:20230520T000000Z
CATEGORIES:Conferència
LOCATION:Biblioteca del CNAM, zona portuària s/n
ORGANIZER:Club Nàutic Arenys de Mar
COMMENT:Preu: Gratis
Durada: de 19:00 a 20:30
DESCRIPTION:CATALUNYA i EL MEDITERRANI
URL:https://arenysdemar.cat/document.php?id=43987
END:VEVENT
END:VCALENDAR