BEGIN:VCALENDAR
VERSION:2.0
PRODID:-//Plone.org//NONSGML plone.app.event//EN
X-WR-TIMEZONE:Europe/Madrid
BEGIN:VEVENT
SUMMARY:Pressupostos participatius d'Arenys de Mar
DTSTART;TZID=Europe/Madrid;VALUE=DATE-TIME:20230601T000000
DTEND;TZID=Europe/Madrid;VALUE=DATE-TIME:20230601T010000
DTSTAMP;VALUE=DATE-TIME:20260420T120432Z
UID:18b06bcff59f7d962e51cc50766ded85
CREATED;VALUE=DATE-TIME:20230601T000000Z
LOCATION:Presencial en bústies i on line
ORGANIZER:Regidoria de Participació Ciutadana
DESCRIPTION:Fase de recollida de propostes
URL:https://arenysdemar.cat/document.php?id=44017
END:VEVENT
END:VCALENDAR