BEGIN:VCALENDAR
VERSION:2.0
PRODID:-//Plone.org//NONSGML plone.app.event//EN
X-WR-TIMEZONE:Europe/Madrid
BEGIN:VEVENT
SUMMARY:Acordionistes i Panderetes del Coro
DTSTART;TZID=Europe/Madrid;VALUE=DATE-TIME:20230625T190000
DTEND;TZID=Europe/Madrid;VALUE=DATE-TIME:20230625T200000
DTSTAMP;VALUE=DATE-TIME:20260424T100545Z
UID:d9b744b968bab273d438b8aa41f6ffef
CREATED;VALUE=DATE-TIME:20230625T000000Z
CATEGORIES:Música
LOCATION:Plaça de l'Església - Plaça de l'Església
ORGANIZER:Ass. Fira del Solstici
DESCRIPTION:Fira del Solstici
URL:https://arenysdemar.cat/document.php?id=44062
END:VEVENT
END:VCALENDAR