BEGIN:VCALENDAR
VERSION:2.0
PRODID:-//Plone.org//NONSGML plone.app.event//EN
X-WR-TIMEZONE:Europe/Madrid
BEGIN:VEVENT
SUMMARY:Fem volar estels: Taller i volada d'estels en record a Quico Bertran
DTSTART;TZID=Europe/Madrid;VALUE=DATE-TIME:20230822T183000
DTEND;TZID=Europe/Madrid;VALUE=DATE-TIME:20230822T193000
DTSTAMP;VALUE=DATE-TIME:20260420T153309Z
UID:51149800ee8f590f5b36e517c418fabc
CREATED;VALUE=DATE-TIME:20230822T000000Z
CATEGORIES:Infantils,Tallers
LOCATION:Biblioplatja - Platja de la Picòrdia
ORGANIZER:Biblioteca - Regidoria de Cultura
URL:https://arenysdemar.cat/document.php?id=44088
END:VEVENT
END:VCALENDAR