BEGIN:VCALENDAR
VERSION:2.0
PRODID:-//Plone.org//NONSGML plone.app.event//EN
X-WR-TIMEZONE:Europe/Madrid
BEGIN:VEVENT
SUMMARY:Taller de Ioga: Ioga Junior de 5 a 11 anys
DTSTART;TZID=Europe/Madrid;VALUE=DATE-TIME:20230724T190000
DTEND;TZID=Europe/Madrid;VALUE=DATE-TIME:20230724T200000
DTSTAMP;VALUE=DATE-TIME:20260424T024330Z
UID:2a0b7f6c55847baf47e475716148ed4d
CREATED;VALUE=DATE-TIME:20230724T000000Z
CATEGORIES:Infantils,Tallers
LOCATION:Biblioplatja - Platja de la Picòrdia
ORGANIZER:Biblioteca - Regidoria de Cultura
COMMENT:Durada: Cal portar tovallola
DESCRIPTION:a càrrec de Laia Pibernat & Mònica Cornet del centre Yogayo
URL:https://arenysdemar.cat/document.php?id=44090
END:VEVENT
END:VCALENDAR