BEGIN:VCALENDAR
VERSION:2.0
PRODID:-//Plone.org//NONSGML plone.app.event//EN
X-WR-TIMEZONE:Europe/Madrid
BEGIN:VEVENT
SUMMARY:Passejada i contes a la Golondrina. Arenys de Contes. Festival d'estiu de contes per a adults: Amors de bolero
DTSTART;TZID=Europe/Madrid;VALUE=DATE-TIME:20230802T200000
DTEND;TZID=Europe/Madrid;VALUE=DATE-TIME:20230802T210000
DTSTAMP;VALUE=DATE-TIME:20260421T050432Z
UID:42c8fd85648ce77a03fadfdcca15b7af
CREATED;VALUE=DATE-TIME:20230802T000000Z
CATEGORIES:Literatura
LOCATION:Biblioplatja - Platja de la Picòrdia
ORGANIZER:Biblioteca - Regidoria de Cultura
COMMENT:Preu: 12 - Inscripcions a la Biblioteca - Places limitades
DESCRIPTION:a càrrec de Mònica Torra
URL:https://arenysdemar.cat/document.php?id=44098
END:VEVENT
END:VCALENDAR