BEGIN:VCALENDAR
VERSION:2.0
PRODID:-//Plone.org//NONSGML plone.app.event//EN
X-WR-TIMEZONE:Europe/Madrid
BEGIN:VEVENT
SUMMARY:Arenys de Contes. Festival d'estiu de contes per a adults: Viejos cuentos de nuevo
DTSTART;TZID=Europe/Madrid;VALUE=DATE-TIME:20230719T220000
DTEND;TZID=Europe/Madrid;VALUE=DATE-TIME:20230719T230000
DTSTAMP;VALUE=DATE-TIME:20260421T050253Z
UID:63b480e0c94970fe06ddad5a5c5add3b
CREATED;VALUE=DATE-TIME:20230719T000000Z
CATEGORIES:Literatura
LOCATION:Biblioplatja - Platja de la Picòrdia
ORGANIZER:Biblioteca - Regidoria de Cultura
DESCRIPTION:Narrador: Pep Bruno
URL:https://arenysdemar.cat/document.php?id=44101
END:VEVENT
END:VCALENDAR