BEGIN:VCALENDAR
VERSION:2.0
PRODID:-//Plone.org//NONSGML plone.app.event//EN
X-WR-TIMEZONE:Europe/Madrid
BEGIN:VEVENT
SUMMARY:Sortida a la Ruta Llacs del Pirineu Aragonès
DTSTART;TZID=Europe/Madrid;VALUE=DATE-TIME:20230712T000000
DTEND;TZID=Europe/Madrid;VALUE=DATE-TIME:20230712T010000
DTSTAMP;VALUE=DATE-TIME:20260420T165254Z
UID:ff036f5efc56f11139587ede2d8a75ae
CREATED;VALUE=DATE-TIME:20230712T000000Z
CATEGORIES:Festa
LOCATION:Esplai/C.C.Calisay - Riera del Pare Fita, 31
ORGANIZER:L´Esplai de la Gent Gran d´Arenys de Mar
COMMENT:Preu: Preu Socis 475&euro; i no socis 500&euro; Habitació indiv +90&euro;
Durada: 3 dies
URL:https://arenysdemar.cat/document.php?id=44110
END:VEVENT
END:VCALENDAR