BEGIN:VCALENDAR
VERSION:2.0
PRODID:-//Plone.org//NONSGML plone.app.event//EN
X-WR-TIMEZONE:Europe/Madrid
BEGIN:VEVENT
SUMMARY:Torneig Social de Tennis de Taula
DTSTART;TZID=Europe/Madrid;VALUE=DATE-TIME:20230815T090000
DTEND;TZID=Europe/Madrid;VALUE=DATE-TIME:20230815T100000
DTSTAMP;VALUE=DATE-TIME:20260424T113324Z
UID:2adc1dcbadb9a74e610683b10edfc265
CREATED;VALUE=DATE-TIME:20230815T000000Z
CATEGORIES:Esports
LOCATION:Sala d'actes de l'Ateneu
ORGANIZER:Secció Tennis de taula de l'Ateneu
COMMENT:Preu: Gratuït
DESCRIPTION:Sant Roc 2023
URL:https://arenysdemar.cat/document.php?id=44184
END:VEVENT
END:VCALENDAR