BEGIN:VCALENDAR
VERSION:2.0
PRODID:-//Plone.org//NONSGML plone.app.event//EN
X-WR-TIMEZONE:Europe/Madrid
BEGIN:VEVENT
SUMMARY:Cicle de Natura: Fem una ullada biològica a les nostres platges. De com funcionen i quina flora, vegetació i fauna hi havia i hi ha
DTSTART;TZID=Europe/Madrid;VALUE=DATE-TIME:20230818T190000
DTEND;TZID=Europe/Madrid;VALUE=DATE-TIME:20230818T200000
DTSTAMP;VALUE=DATE-TIME:20260421T112312Z
UID:c07fab4afa4911566e5a73f125496ade
CREATED;VALUE=DATE-TIME:20230818T000000Z
CATEGORIES:Conferència,Medi ambient
LOCATION:Biblioplatja - Platja de la Picòrdia
ORGANIZER:Biblioteca - Regidoria de Cultura i Regidoria de Medi Ambient
DESCRIPTION:a càrrec de Carme Buxalleu Serras, Doctora en Biologia
URL:https://arenysdemar.cat/document.php?id=44186
END:VEVENT
END:VCALENDAR