BEGIN:VCALENDAR
VERSION:2.0
PRODID:-//Plone.org//NONSGML plone.app.event//EN
X-WR-TIMEZONE:Europe/Madrid
BEGIN:VEVENT
SUMMARY:Conferència: Com evitar càrregues generacionals negatives als teus fills
DTSTART;TZID=Europe/Madrid;VALUE=DATE-TIME:20240510T190000
DTEND;TZID=Europe/Madrid;VALUE=DATE-TIME:20240510T200000
DTSTAMP;VALUE=DATE-TIME:20260419T163411Z
UID:935ce6792e1eed9ff7ff6a004b3df790
CREATED;VALUE=DATE-TIME:20240510T000000Z
CATEGORIES:Conferència
LOCATION:Biblioteca - Bonaire, 2
ORGANIZER:Col.lectiu de reflexió sobre la infància i adolescència
COMMENT:Durada: una hora
DESCRIPTION:a càrrec d'Eva Aixelà
URL:https://arenysdemar.cat/document.php?id=44198
END:VEVENT
END:VCALENDAR