BEGIN:VCALENDAR
VERSION:2.0
PRODID:-//Plone.org//NONSGML plone.app.event//EN
X-WR-TIMEZONE:Europe/Madrid
BEGIN:VEVENT
SUMMARY:Ofrena de macips, macipes i macipets a Sant Roc i cantada dels goigs
DTSTART;TZID=Europe/Madrid;VALUE=DATE-TIME:20230816T080000
DTEND;TZID=Europe/Madrid;VALUE=DATE-TIME:20230816T090000
DTSTAMP;VALUE=DATE-TIME:20260425T150145Z
UID:1686cdfc9ee1c36a61d5d171c8690173
CREATED;VALUE=DATE-TIME:20230816T000000Z
CATEGORIES:Festa
LOCATION:Església de Santa Maria - Plaça de l'Església
ORGANIZER:Patronat de Sant Roc i Parròquia Santa Maria
URL:https://arenysdemar.cat/document.php?id=44227
END:VEVENT
END:VCALENDAR