BEGIN:VCALENDAR
VERSION:2.0
PRODID:-//Plone.org//NONSGML plone.app.event//EN
X-WR-TIMEZONE:Europe/Madrid
BEGIN:VEVENT
SUMMARY:Cercavila de macips, macipes i macipets
DTSTART;TZID=Europe/Madrid;VALUE=DATE-TIME:20230816T090000
DTEND;TZID=Europe/Madrid;VALUE=DATE-TIME:20230816T100000
DTSTAMP;VALUE=DATE-TIME:20260423T200517Z
UID:714cc38a160e7a5ef0c5c7132a32a3ec
CREATED;VALUE=DATE-TIME:20230816T000000Z
CATEGORIES:Festa
LOCATION:Pels carrers i places de la vila
ORGANIZER:Patronat de Sant Roc
URL:https://arenysdemar.cat/document.php?id=44228
END:VEVENT
END:VCALENDAR