BEGIN:VCALENDAR
VERSION:2.0
PRODID:-//Plone.org//NONSGML plone.app.event//EN
X-WR-TIMEZONE:Europe/Madrid
BEGIN:VEVENT
SUMMARY:Ballada de la Dansa d'Arenys
DTSTART;TZID=Europe/Madrid;VALUE=DATE-TIME:20230816T203000
DTEND;TZID=Europe/Madrid;VALUE=DATE-TIME:20230816T213000
DTSTAMP;VALUE=DATE-TIME:20260423T231828Z
UID:68a87b4bcc3fac0427682fdffc8181b3
CREATED;VALUE=DATE-TIME:20230816T000000Z
CATEGORIES:Dansa,Festa
LOCATION:Riera, davant del Xifré
ORGANIZER:Patronat de Sant Roc i Regidoria de Festes, amb la col·laboració de l'Esbart Maragall
URL:https://arenysdemar.cat/document.php?id=44232
END:VEVENT
END:VCALENDAR