BEGIN:VCALENDAR
VERSION:2.0
PRODID:-//Plone.org//NONSGML plone.app.event//EN
X-WR-TIMEZONE:Europe/Madrid
BEGIN:VEVENT
SUMMARY:El Sopar de la Nocturna
DTSTART;TZID=Europe/Madrid;VALUE=DATE-TIME:20230814T200000
DTEND;TZID=Europe/Madrid;VALUE=DATE-TIME:20230814T210000
DTSTAMP;VALUE=DATE-TIME:20260423T140453Z
UID:3b015231c16e6ee060560fe505518c9a
CREATED;VALUE=DATE-TIME:20230814T000000Z
CATEGORIES:Festa
LOCATION:Riera zona nova coberta - Riera zona nova coberta
ORGANIZER:Associació de Geganters d'Arenys de Mar
DESCRIPTION:Vine a menjar un entrepà i a tastar la Pomada dels Geganters
URL:https://arenysdemar.cat/document.php?id=44250
END:VEVENT
END:VCALENDAR