BEGIN:VCALENDAR
VERSION:2.0
PRODID:-//Plone.org//NONSGML plone.app.event//EN
X-WR-TIMEZONE:Europe/Madrid
BEGIN:VEVENT
SUMMARY:Les nits del pati
DTSTART;TZID=Europe/Madrid;VALUE=DATE-TIME:20230729T210000
DTEND;TZID=Europe/Madrid;VALUE=DATE-TIME:20230729T220000
DTSTAMP;VALUE=DATE-TIME:20260420T170819Z
UID:d87e6cc9fedd438db3739b1e1ebb9963
CREATED;VALUE=DATE-TIME:20230729T000000Z
CATEGORIES:Música
LOCATION:Pati del Xifré - Auterive, s/n
ORGANIZER:Seràfics
DESCRIPTION:Concert al pati del Xifré
URL:https://arenysdemar.cat/document.php?id=44301
END:VEVENT
END:VCALENDAR