BEGIN:VCALENDAR
VERSION:2.0
PRODID:-//Plone.org//NONSGML plone.app.event//EN
X-WR-TIMEZONE:Europe/Madrid
BEGIN:VEVENT
SUMMARY:Acte en memòria dels actors i actrius arenyencs d'una generació gairebé desapareguda
DTSTART;TZID=Europe/Madrid;VALUE=DATE-TIME:20230813T000000
DTEND;TZID=Europe/Madrid;VALUE=DATE-TIME:20230813T010000
DTSTAMP;VALUE=DATE-TIME:20260425T131901Z
UID:07080cb360ff864aa9ca55bf79d14037
CREATED;VALUE=DATE-TIME:20230813T000000Z
CATEGORIES:Teatre
LOCATION:Església de Santa Maria - Plaça de l'Església
ORGANIZER:J.M.
COMMENT:Preu: Gratuït
DESCRIPTION:Lectura de textos de Salvador Espriu amb pinzellades musicals
URL:https://arenysdemar.cat/document.php?id=44302
END:VEVENT
END:VCALENDAR