BEGIN:VCALENDAR
VERSION:2.0
PRODID:-//Plone.org//NONSGML plone.app.event//EN
X-WR-TIMEZONE:Europe/Madrid
BEGIN:VEVENT
SUMMARY:Conferència: Inici de la vida: embaràs i postpart
DTSTART;TZID=Europe/Madrid;VALUE=DATE-TIME:20240209T190000
DTEND;TZID=Europe/Madrid;VALUE=DATE-TIME:20240209T200000
DTSTAMP;VALUE=DATE-TIME:20260424T233336Z
UID:f8efc3ef60b2282abc35819a1687af72
CREATED;VALUE=DATE-TIME:20240209T000000Z
CATEGORIES:Conferència
LOCATION:Biblioteca - Bonaire, 2
ORGANIZER:Col·lectiu de reflexió sobre la infància i adolescència
COMMENT:Durada: una hora
URL:https://arenysdemar.cat/document.php?id=44321
END:VEVENT
END:VCALENDAR