BEGIN:VCALENDAR
VERSION:2.0
PRODID:-//Plone.org//NONSGML plone.app.event//EN
X-WR-TIMEZONE:Europe/Madrid
BEGIN:VEVENT
SUMMARY:Don Quixot de Ludwig Minkus
DTSTART;TZID=Europe/Madrid;VALUE=DATE-TIME:20231107T201500
DTEND;TZID=Europe/Madrid;VALUE=DATE-TIME:20231107T211500
DTSTAMP;VALUE=DATE-TIME:20260421T192845Z
UID:d80272083d311638e1041b717575c4a9
CREATED;VALUE=DATE-TIME:20231107T000000Z
CATEGORIES:Cinema
LOCATION:Teatre Principal - C. Església, 45-47
ORGANIZER:Regidoria de Cultura i la Societat Coral l'Esperança
COMMENT:Preu: 15 anticipat i 17 taquilla
DESCRIPTION:Retransmissió en directe des de la Royal Opera House de Londres
URL:https://arenysdemar.cat/document.php?id=44410
END:VEVENT
END:VCALENDAR