BEGIN:VCALENDAR
VERSION:2.0
PRODID:-//Plone.org//NONSGML plone.app.event//EN
X-WR-TIMEZONE:Europe/Madrid
BEGIN:VEVENT
SUMMARY:En Joan sense por i la casa encantada
DTSTART;TZID=Europe/Madrid;VALUE=DATE-TIME:20231203T180000
DTEND;TZID=Europe/Madrid;VALUE=DATE-TIME:20231203T190000
DTSTAMP;VALUE=DATE-TIME:20260421T210308Z
UID:590ace7db9de47223ccf0fc3c44a5d4c
CREATED;VALUE=DATE-TIME:20231203T000000Z
CATEGORIES:Infantils
LOCATION:Teatre Principal - C. Església, 45-47
ORGANIZER:Societat Coral l'Esperança i la Regidoria de Cultura
COMMENT:Preu: 6 anticipada, 7 taquilla
DESCRIPTION:amb la Roda Produccions
URL:https://arenysdemar.cat/document.php?id=44414
END:VEVENT
END:VCALENDAR