BEGIN:VCALENDAR
VERSION:2.0
PRODID:-//Plone.org//NONSGML plone.app.event//EN
X-WR-TIMEZONE:Europe/Madrid
BEGIN:VEVENT
SUMMARY:Una escola d'avantguarda, l'edifici Sert d'Arenys de Mar
DTSTART;TZID=Europe/Madrid;VALUE=DATE-TIME:20230912T000000
DTEND;TZID=Europe/Madrid;VALUE=DATE-TIME:20230912T010000
DTSTAMP;VALUE=DATE-TIME:20260423T231953Z
UID:30ac943f06f994d280fa789ab218c3ba
CREATED;VALUE=DATE-TIME:20230912T000000Z
CATEGORIES:Exposició
LOCATION:Museu Marès de les Puntes - Església, 41
ORGANIZER:Ajuntament d'Arenys de Mar, Museu d'Arenys de Mar i Diputació de Barcelona
COMMENT:Preu: Gratuït
Durada: De dimarts a dissabte de 10 a 13h, diumenges i festius d'11 a 13h
DESCRIPTION:L'Escola, llum de llibertat. L´educació durant la Segona República
URL:https://arenysdemar.cat/document.php?id=44418
END:VEVENT
END:VCALENDAR