BEGIN:VCALENDAR
VERSION:2.0
PRODID:-//Plone.org//NONSGML plone.app.event//EN
X-WR-TIMEZONE:Europe/Madrid
BEGIN:VEVENT
SUMMARY:Concert de Nadal de la família Aixa
DTSTART;TZID=Europe/Madrid;VALUE=DATE-TIME:20231223T213000
DTEND;TZID=Europe/Madrid;VALUE=DATE-TIME:20231223T223000
DTSTAMP;VALUE=DATE-TIME:20260420T081514Z
UID:7ce1f3936f596d9e574f231b73b03985
CREATED;VALUE=DATE-TIME:20231223T000000Z
CATEGORIES:Música
LOCATION:Església de Santa Maria - Plaça de l'Església
ORGANIZER:Associació Cor l'Aixa
DESCRIPTION:a càrrec d'Adzé Cor de Cambra i Cor l'Aixa. Direcció: Alfred Cañamero
URL:https://arenysdemar.cat/document.php?id=44451
END:VEVENT
END:VCALENDAR