BEGIN:VCALENDAR
VERSION:2.0
PRODID:-//Plone.org//NONSGML plone.app.event//EN
X-WR-TIMEZONE:Europe/Madrid
BEGIN:VEVENT
SUMMARY:Visita guiada al retaule barroc de Pau Costa
DTSTART;TZID=Europe/Madrid;VALUE=DATE-TIME:20231230T110000
DTEND;TZID=Europe/Madrid;VALUE=DATE-TIME:20231230T120000
DTSTAMP;VALUE=DATE-TIME:20260423T233615Z
UID:1333e0fd1c3209b81635ccac4b6aef25
CREATED;VALUE=DATE-TIME:20231230T000000Z
CATEGORIES:Mostra
LOCATION:Església de Santa Maria - Plaça de l'Església
ORGANIZER:Parròquia de Santa Maria - Amics del Retaule
COMMENT:Preu: 2 &euro;
URL:https://arenysdemar.cat/document.php?id=44463
END:VEVENT
END:VCALENDAR