BEGIN:VCALENDAR
VERSION:2.0
PRODID:-//Plone.org//NONSGML plone.app.event//EN
X-WR-TIMEZONE:Europe/Madrid
BEGIN:VEVENT
SUMMARY:Visita guiada al retaule barroc de Pau Costa
DTSTART;TZID=Europe/Madrid;VALUE=DATE-TIME:20240330T110000
DTEND;TZID=Europe/Madrid;VALUE=DATE-TIME:20240330T120000
DTSTAMP;VALUE=DATE-TIME:20260422T010105Z
UID:cbd1f1cc8cebdcd8681496eb4801dcab
CREATED;VALUE=DATE-TIME:20240330T000000Z
CATEGORIES:Mostra
LOCATION:Església de Santa Maria - Plaça de l'Església
ORGANIZER:Parròquia de Santa Maria - Amics del Retaule
COMMENT:Preu: 2 &euro;
URL:https://arenysdemar.cat/document.php?id=44466
END:VEVENT
END:VCALENDAR