BEGIN:VCALENDAR
VERSION:2.0
PRODID:-//Plone.org//NONSGML plone.app.event//EN
X-WR-TIMEZONE:Europe/Madrid
BEGIN:VEVENT
SUMMARY:Hora del conte especial la Castanyera: El vell roure
DTSTART;TZID=Europe/Madrid;VALUE=DATE-TIME:20231026T180000
DTEND;TZID=Europe/Madrid;VALUE=DATE-TIME:20231026T190000
DTSTAMP;VALUE=DATE-TIME:20260424T213716Z
UID:ae6428022facf9f30dce1a9ef74061fe
CREATED;VALUE=DATE-TIME:20231026T000000Z
CATEGORIES:Infantils
LOCATION:Sala d'Actes de la Biblioteca - C. Bonaire, 3
ORGANIZER:Biblioteca - Regidoria de Cultura
DESCRIPTION:a càrrec de Montserrat Jordà. Activitat recomanada per a infants a partir de 4 anys
URL:https://arenysdemar.cat/document.php?id=44496
END:VEVENT
END:VCALENDAR