BEGIN:VCALENDAR
VERSION:2.0
PRODID:-//Plone.org//NONSGML plone.app.event//EN
X-WR-TIMEZONE:Europe/Madrid
BEGIN:VEVENT
SUMMARY:Inici de la temporada de l'Hora del conte: POP-UP
DTSTART;TZID=Europe/Madrid;VALUE=DATE-TIME:20231005T180000
DTEND;TZID=Europe/Madrid;VALUE=DATE-TIME:20231005T190000
DTSTAMP;VALUE=DATE-TIME:20260424T121321Z
UID:eea78dec26dd56c3b005d70af80cfe52
CREATED;VALUE=DATE-TIME:20231005T000000Z
CATEGORIES:Infantils
LOCATION:Sala d'Actes de la Biblioteca - C. Bonaire, 3
ORGANIZER:Biblioteca - Regidoria de Cultura
DESCRIPTION:a càrrec de l'Elisabeth Ulibarri.Activitat recomanada per a infants a partir de 4 anys.
URL:https://arenysdemar.cat/document.php?id=44511
END:VEVENT
END:VCALENDAR