BEGIN:VCALENDAR
VERSION:2.0
PRODID:-//Plone.org//NONSGML plone.app.event//EN
X-WR-TIMEZONE:Europe/Madrid
BEGIN:VEVENT
SUMMARY:Visita teatralitzada a l'exposició, Invisibles i ocultes
DTSTART;TZID=Europe/Madrid;VALUE=DATE-TIME:20231112T110000
DTEND;TZID=Europe/Madrid;VALUE=DATE-TIME:20231112T120000
DTSTAMP;VALUE=DATE-TIME:20260421T222350Z
UID:caed2a400bb8d12dcb4a4d896d099a81
CREATED;VALUE=DATE-TIME:20231112T000000Z
CATEGORIES:Exposició
LOCATION:Museu Marès de les Puntes - Església, 41
ORGANIZER:Ajuntament d'Arenys de Mar - Museu d'Arenys de Mar
COMMENT:Preu: Gratuït
Durada: Fins a les 13h
DESCRIPTION:Setmana de la Ciència
URL:https://arenysdemar.cat/document.php?id=44559
END:VEVENT
END:VCALENDAR