BEGIN:VCALENDAR
VERSION:2.0
PRODID:-//Plone.org//NONSGML plone.app.event//EN
X-WR-TIMEZONE:Europe/Madrid
BEGIN:VEVENT
SUMMARY:Ball del dissabte
DTSTART;TZID=Europe/Madrid;VALUE=DATE-TIME:20240601T213000
DTEND;TZID=Europe/Madrid;VALUE=DATE-TIME:20240601T223000
DTSTAMP;VALUE=DATE-TIME:20260419T150528Z
UID:718dc011cd36c937b64b148c7ed90599
CREATED;VALUE=DATE-TIME:20240601T000000Z
CATEGORIES:Música
LOCATION:Ateneu Arenyenc - Anselm Clavé, 22
ORGANIZER:Ateneu Arenyenc
COMMENT:Preu: Soci i Acompanyant: 7 &euro; persona i general 10 &euro;
DESCRIPTION:amb l'actuació de Cristian i Sònia
URL:https://arenysdemar.cat/document.php?id=44602
END:VEVENT
END:VCALENDAR