BEGIN:VCALENDAR
VERSION:2.0
PRODID:-//Plone.org//NONSGML plone.app.event//EN
X-WR-TIMEZONE:Europe/Madrid
BEGIN:VEVENT
SUMMARY:Ball del dissabte - Ball de Carnaval
DTSTART;TZID=Europe/Madrid;VALUE=DATE-TIME:20240210T213000
DTEND;TZID=Europe/Madrid;VALUE=DATE-TIME:20240210T223000
DTSTAMP;VALUE=DATE-TIME:20260421T204143Z
UID:f6b015a439c2534af8841c940a76621c
CREATED;VALUE=DATE-TIME:20240210T000000Z
CATEGORIES:Festa,Música
LOCATION:Ateneu Arenyenc - Anselm Clavé, 22
ORGANIZER:Ateneu Arenyeanc
COMMENT:Preu: Soci i Acompanyant: 7 &euro; persona i general 10 &euro;
DESCRIPTION:anb l'actuació del Duet Ària
URL:https://arenysdemar.cat/document.php?id=44610
END:VEVENT
END:VCALENDAR