BEGIN:VCALENDAR
VERSION:2.0
PRODID:-//Plone.org//NONSGML plone.app.event//EN
X-WR-TIMEZONE:Europe/Madrid
BEGIN:VEVENT
SUMMARY:Ball del dissabte
DTSTART;TZID=Europe/Madrid;VALUE=DATE-TIME:20240113T213000
DTEND;TZID=Europe/Madrid;VALUE=DATE-TIME:20240113T223000
DTSTAMP;VALUE=DATE-TIME:20260423T115315Z
UID:a4abcf89b0dab9b53f40d612bc140a80
CREATED;VALUE=DATE-TIME:20240113T000000Z
CATEGORIES:Música
LOCATION:Ateneu Arenyenc - Anselm Clavé, 22
ORGANIZER:Ateneu Arenyeanc
COMMENT:Preu: Soci i Acompanyant: 7 &euro; persona i general 10 &euro;
DESCRIPTION:amb l'actuació del Duet Txic to Txic
URL:https://arenysdemar.cat/document.php?id=44612
END:VEVENT
END:VCALENDAR