BEGIN:VCALENDAR
VERSION:2.0
PRODID:-//Plone.org//NONSGML plone.app.event//EN
X-WR-TIMEZONE:Europe/Madrid
BEGIN:VEVENT
SUMMARY:Vols ser diable?
DTSTART;TZID=Europe/Madrid;VALUE=DATE-TIME:20231006T193000
DTEND;TZID=Europe/Madrid;VALUE=DATE-TIME:20231006T203000
DTSTAMP;VALUE=DATE-TIME:20260422T160359Z
UID:8be8151755cf7fc757d6e4ff0037f217
CREATED;VALUE=DATE-TIME:20231006T000000Z
CATEGORIES:Conferència
LOCATION:Aula 1 Fèlix Cucurull
ORGANIZER:Secció Diables de l'Ateneu
COMMENT:Preu: Gratuït
DESCRIPTION:1a Sessió divulgativa
URL:https://arenysdemar.cat/document.php?id=44624
END:VEVENT
END:VCALENDAR