BEGIN:VCALENDAR
VERSION:2.0
PRODID:-//Plone.org//NONSGML plone.app.event//EN
X-WR-TIMEZONE:Europe/Madrid
BEGIN:VEVENT
SUMMARY:Intercanvi gastronòmic amb la vila de Gironella
DTSTART;TZID=Europe/Madrid;VALUE=DATE-TIME:20231111T000000
DTEND;TZID=Europe/Madrid;VALUE=DATE-TIME:20231111T010000
DTSTAMP;VALUE=DATE-TIME:20260424T145703Z
UID:62a0b9b05d401701ca3d6e7498278a8d
CREATED;VALUE=DATE-TIME:20231111T000000Z
CATEGORIES:Festa
LOCATION:Sala '1 d'octubre' del C.C.Calisay - Riera Pare Fita, 31
ORGANIZER:Ajuntament d'Arenys de Mar
COMMENT:Durada: a partir de les 10 h
URL:https://arenysdemar.cat/document.php?id=44638
END:VEVENT
END:VCALENDAR