BEGIN:VCALENDAR
VERSION:2.0
PRODID:-//Plone.org//NONSGML plone.app.event//EN
X-WR-TIMEZONE:Europe/Madrid
BEGIN:VEVENT
SUMMARY:Taller familiar: Construïm animals amb les fulles de tardor!!
DTSTART;TZID=Europe/Madrid;VALUE=DATE-TIME:20231114T180000
DTEND;TZID=Europe/Madrid;VALUE=DATE-TIME:20231114T190000
DTSTAMP;VALUE=DATE-TIME:20260421T140614Z
UID:6b40033f0914d381bb3c5a78eea8dbab
CREATED;VALUE=DATE-TIME:20231114T000000Z
CATEGORIES:Infantils,Tallers
LOCATION:Sala d'Actes de la Biblioteca - C. Bonaire, 3
ORGANIZER:Biblioteca - Regidoria de Cultura
COMMENT:Preu: Cal inscripció prèvia a la biblioteca, per telèfon (93.792.32.53) o correu electrònic (b.arenysma.pff@diba.cat)
DESCRIPTION:a càrrec d'Anna Danés. Activitat dirigida per a infants de 3 a 5 anys.
URL:https://arenysdemar.cat/document.php?id=44747
END:VEVENT
END:VCALENDAR